BEGIN:VCALENDAR
VERSION:2.0
PRODID:-//DEXPI - ECPv6.15.20//NONSGML v1.0//EN
CALSCALE:GREGORIAN
METHOD:PUBLISH
X-ORIGINAL-URL:https://dexpi.org
X-WR-CALDESC:Events for DEXPI
REFRESH-INTERVAL;VALUE=DURATION:PT1H
X-Robots-Tag:noindex
X-PUBLISHED-TTL:PT1H
BEGIN:VTIMEZONE
TZID:Europe/Berlin
BEGIN:DAYLIGHT
TZOFFSETFROM:+0100
TZOFFSETTO:+0200
TZNAME:CEST
DTSTART:20210328T010000
END:DAYLIGHT
BEGIN:STANDARD
TZOFFSETFROM:+0200
TZOFFSETTO:+0100
TZNAME:CET
DTSTART:20211031T010000
END:STANDARD
BEGIN:DAYLIGHT
TZOFFSETFROM:+0100
TZOFFSETTO:+0200
TZNAME:CEST
DTSTART:20220327T010000
END:DAYLIGHT
BEGIN:STANDARD
TZOFFSETFROM:+0200
TZOFFSETTO:+0100
TZNAME:CET
DTSTART:20221030T010000
END:STANDARD
BEGIN:DAYLIGHT
TZOFFSETFROM:+0100
TZOFFSETTO:+0200
TZNAME:CEST
DTSTART:20230326T010000
END:DAYLIGHT
BEGIN:STANDARD
TZOFFSETFROM:+0200
TZOFFSETTO:+0100
TZNAME:CET
DTSTART:20231029T010000
END:STANDARD
END:VTIMEZONE
BEGIN:VEVENT
DTSTART;VALUE=DATE:20220822
DTEND;VALUE=DATE:20220827
DTSTAMP:20260423T124921
CREATED:20220808T130740Z
LAST-MODIFIED:20221103T110310Z
UID:1142-1661126400-1661558399@dexpi.org
SUMMARY:DEXPI @ ACHEMA
DESCRIPTION:We are looking forward seeing you @ ACHEMA 2022: https://achema.de/
URL:https://dexpi.org/event/dexpi-achema/
CATEGORIES:External Events
END:VEVENT
BEGIN:VEVENT
DTSTART;TZID=Europe/Berlin:20220823T093000
DTEND;TZID=Europe/Berlin:20220824T170000
DTSTAMP:20260423T124921
CREATED:20220808T131400Z
LAST-MODIFIED:20221103T110258Z
UID:1144-1661247000-1661360400@dexpi.org
SUMMARY:PIDMIC Workshop @ ACHEMA
DESCRIPTION:The “Process Industry Data Model Integration Congress – PIDMIC” brings together global organizations dealing with “Semantic Data Structures along the Plant Lifecycle”.  A number of associations develop and implement vendor independent information models to generate a digital twin that enables process industry to do an integrated engineering along the asset lifecycle from process development\, engineering\, construction and operations and across the disciplines process engineering\, machine and apparatus\, piping and automation. Over the last few years there have been a lot of bilateral interactions between the associations driven by the common understanding that we have to align these activities to fulfill this vision.\nDEXPI took the opportunity of the ACHEMA to bring together the relevant associations (ISO\, IEC\, OPC\, IDTA\, ECLASS\, VDMA\, CFIHOS\, USPI\, Mimosa\, NAMUR\, CII\, THTH\, SEIIA\, …) in a two days congress\, in order to get transparency on their activity\, align on current topics and define a common roadmap for further development of the structural digital twin for the process industry.\nIn the first part of the congress the associations will give presentations to make their activities transparent based on a questionnaire distributed and answered in advance in order to define the current status of the information models.  In the second part current developments are presented and discussed to aligne these developments. And in the third part a roadmap will be developed for future activities towards a vendor independent structural digital twin.  \nFurther Information on ACHEMA can be found here: https://achema.de
URL:https://dexpi.org/event/pidmic-workshop-achema/
LOCATION:Messe Frankfurt\, Messe\, Frankfurt\, Germany
CATEGORIES:External Events
END:VEVENT
END:VCALENDAR