BEGIN:VCALENDAR
VERSION:2.0
PRODID:-//DEXPI - ECPv6.15.20//NONSGML v1.0//EN
CALSCALE:GREGORIAN
METHOD:PUBLISH
X-ORIGINAL-URL:https://dexpi.org
X-WR-CALDESC:Events for DEXPI
REFRESH-INTERVAL;VALUE=DURATION:PT1H
X-Robots-Tag:noindex
X-PUBLISHED-TTL:PT1H
BEGIN:VTIMEZONE
TZID:Europe/Berlin
BEGIN:DAYLIGHT
TZOFFSETFROM:+0100
TZOFFSETTO:+0200
TZNAME:CEST
DTSTART:20230326T010000
END:DAYLIGHT
BEGIN:STANDARD
TZOFFSETFROM:+0200
TZOFFSETTO:+0100
TZNAME:CET
DTSTART:20231029T010000
END:STANDARD
BEGIN:DAYLIGHT
TZOFFSETFROM:+0100
TZOFFSETTO:+0200
TZNAME:CEST
DTSTART:20240331T010000
END:DAYLIGHT
BEGIN:STANDARD
TZOFFSETFROM:+0200
TZOFFSETTO:+0100
TZNAME:CET
DTSTART:20241027T010000
END:STANDARD
BEGIN:DAYLIGHT
TZOFFSETFROM:+0100
TZOFFSETTO:+0200
TZNAME:CEST
DTSTART:20250330T010000
END:DAYLIGHT
BEGIN:STANDARD
TZOFFSETFROM:+0200
TZOFFSETTO:+0100
TZNAME:CET
DTSTART:20251026T010000
END:STANDARD
END:VTIMEZONE
BEGIN:VEVENT
DTSTART;TZID=Europe/Berlin:20240208T150000
DTEND;TZID=Europe/Berlin:20240208T160000
DTSTAMP:20260422T090829
CREATED:20231123T151504Z
LAST-MODIFIED:20231123T151504Z
UID:1571-1707404400-1707408000@dexpi.org
SUMMARY:DEXPI content team call 2024-02
DESCRIPTION:This is a calender entry for an internal DEXPI content team meeting. \nThe members of the content team will receive the dial-in information separately.
URL:https://dexpi.org/event/dexpi-content-team-call-2024-02/
END:VEVENT
END:VCALENDAR