BEGIN:VCALENDAR
VERSION:2.0
PRODID:-//DEXPI - ECPv6.15.20//NONSGML v1.0//EN
CALSCALE:GREGORIAN
METHOD:PUBLISH
X-ORIGINAL-URL:https://dexpi.org
X-WR-CALDESC:Events for DEXPI
REFRESH-INTERVAL;VALUE=DURATION:PT1H
X-Robots-Tag:noindex
X-PUBLISHED-TTL:PT1H
BEGIN:VTIMEZONE
TZID:Europe/Berlin
BEGIN:DAYLIGHT
TZOFFSETFROM:+0100
TZOFFSETTO:+0200
TZNAME:CEST
DTSTART:20220327T010000
END:DAYLIGHT
BEGIN:STANDARD
TZOFFSETFROM:+0200
TZOFFSETTO:+0100
TZNAME:CET
DTSTART:20221030T010000
END:STANDARD
BEGIN:DAYLIGHT
TZOFFSETFROM:+0100
TZOFFSETTO:+0200
TZNAME:CEST
DTSTART:20230326T010000
END:DAYLIGHT
BEGIN:STANDARD
TZOFFSETFROM:+0200
TZOFFSETTO:+0100
TZNAME:CET
DTSTART:20231029T010000
END:STANDARD
BEGIN:DAYLIGHT
TZOFFSETFROM:+0100
TZOFFSETTO:+0200
TZNAME:CEST
DTSTART:20240331T010000
END:DAYLIGHT
BEGIN:STANDARD
TZOFFSETFROM:+0200
TZOFFSETTO:+0100
TZNAME:CET
DTSTART:20241027T010000
END:STANDARD
END:VTIMEZONE
BEGIN:VEVENT
DTSTART;TZID=Europe/Berlin:20230824T150000
DTEND;TZID=Europe/Berlin:20230824T160000
DTSTAMP:20260421T173422
CREATED:20230109T161750Z
LAST-MODIFIED:20230713T123350Z
UID:1355-1692889200-1692892800@dexpi.org
SUMMARY:DEXPI content team call 2023-08
DESCRIPTION:This is a calender entry for an internal DEXPI content team meeting. \nThe members of the content team will receive the dial-in information separately. \n  \n— 2023-07-13: Updated meeting time\, now 3 pm\, before 1 pm —
URL:https://dexpi.org/event/dexpi-content-team-call-2023-08/
CATEGORIES:DEXPI content team meetings,Internal DEXPI events
END:VEVENT
END:VCALENDAR