BEGIN:VCALENDAR
VERSION:2.0
PRODID:-//DEXPI - ECPv6.15.20//NONSGML v1.0//EN
CALSCALE:GREGORIAN
METHOD:PUBLISH
X-ORIGINAL-URL:https://dexpi.org
X-WR-CALDESC:Events for DEXPI
REFRESH-INTERVAL;VALUE=DURATION:PT1H
X-Robots-Tag:noindex
X-PUBLISHED-TTL:PT1H
BEGIN:VTIMEZONE
TZID:Europe/Berlin
BEGIN:DAYLIGHT
TZOFFSETFROM:+0100
TZOFFSETTO:+0200
TZNAME:CEST
DTSTART:20220327T010000
END:DAYLIGHT
BEGIN:STANDARD
TZOFFSETFROM:+0200
TZOFFSETTO:+0100
TZNAME:CET
DTSTART:20221030T010000
END:STANDARD
BEGIN:DAYLIGHT
TZOFFSETFROM:+0100
TZOFFSETTO:+0200
TZNAME:CEST
DTSTART:20230326T010000
END:DAYLIGHT
BEGIN:STANDARD
TZOFFSETFROM:+0200
TZOFFSETTO:+0100
TZNAME:CET
DTSTART:20231029T010000
END:STANDARD
BEGIN:DAYLIGHT
TZOFFSETFROM:+0100
TZOFFSETTO:+0200
TZNAME:CEST
DTSTART:20240331T010000
END:DAYLIGHT
BEGIN:STANDARD
TZOFFSETFROM:+0200
TZOFFSETTO:+0100
TZNAME:CET
DTSTART:20241027T010000
END:STANDARD
END:VTIMEZONE
BEGIN:VEVENT
DTSTART;TZID=Europe/Berlin:20230627T140000
DTEND;TZID=Europe/Berlin:20230627T160000
DTSTAMP:20260421T190809
CREATED:20230502T095812Z
LAST-MODIFIED:20230502T095812Z
UID:1416-1687874400-1687881600@dexpi.org
SUMMARY:DEXPI project meeting "New Data Format"
DESCRIPTION:
URL:https://dexpi.org/event/dexpi-project-meeting-new-data-format-2023-06/
LOCATION:Virtual internal Meeting
CATEGORIES:DEXPI Project "New Data Format"
END:VEVENT
END:VCALENDAR