BEGIN:VCALENDAR
VERSION:2.0
PRODID:-//DEXPI - ECPv6.15.20//NONSGML v1.0//EN
CALSCALE:GREGORIAN
METHOD:PUBLISH
X-WR-CALNAME:DEXPI
X-ORIGINAL-URL:https://dexpi.org
X-WR-CALDESC:Events for DEXPI
REFRESH-INTERVAL;VALUE=DURATION:PT1H
X-Robots-Tag:noindex
X-PUBLISHED-TTL:PT1H
BEGIN:VTIMEZONE
TZID:Europe/Berlin
BEGIN:DAYLIGHT
TZOFFSETFROM:+0100
TZOFFSETTO:+0200
TZNAME:CEST
DTSTART:20190331T010000
END:DAYLIGHT
BEGIN:STANDARD
TZOFFSETFROM:+0200
TZOFFSETTO:+0100
TZNAME:CET
DTSTART:20191027T010000
END:STANDARD
BEGIN:DAYLIGHT
TZOFFSETFROM:+0100
TZOFFSETTO:+0200
TZNAME:CEST
DTSTART:20200329T010000
END:DAYLIGHT
BEGIN:STANDARD
TZOFFSETFROM:+0200
TZOFFSETTO:+0100
TZNAME:CET
DTSTART:20201025T010000
END:STANDARD
BEGIN:DAYLIGHT
TZOFFSETFROM:+0100
TZOFFSETTO:+0200
TZNAME:CEST
DTSTART:20210328T010000
END:DAYLIGHT
BEGIN:STANDARD
TZOFFSETFROM:+0200
TZOFFSETTO:+0100
TZNAME:CET
DTSTART:20211031T010000
END:STANDARD
END:VTIMEZONE
BEGIN:VTIMEZONE
TZID:UTC
BEGIN:STANDARD
TZOFFSETFROM:+0000
TZOFFSETTO:+0000
TZNAME:UTC
DTSTART:20190101T000000
END:STANDARD
END:VTIMEZONE
BEGIN:VEVENT
DTSTART;VALUE=DATE:20200921
DTEND;VALUE=DATE:20200925
DTSTAMP:20260419T203850
CREATED:20200901T130749Z
LAST-MODIFIED:20200901T130749Z
UID:808-1600646400-1600991999@dexpi.org
SUMMARY:ProcessNet Annual Meeting 2020
DESCRIPTION:10. ProcessNet-Jahrestagung und 34. DECHEMA-Jahrestagung der Biotechnologen 2020 \nhttps://processnet.org/JT2020.html
URL:https://dexpi.org/event/processnet-annual-meeting-2020/
END:VEVENT
BEGIN:VEVENT
DTSTART;TZID=Europe/Berlin:20200901T100000
DTEND;TZID=Europe/Berlin:20200901T160000
DTSTAMP:20260419T203850
CREATED:20200901T125947Z
LAST-MODIFIED:20200901T130003Z
UID:799-1598954400-1598976000@dexpi.org
SUMMARY:DEXPI Marketing-Hackathon 2020
DESCRIPTION:
URL:https://dexpi.org/event/dexpi-marketing-hackathon-2020/
END:VEVENT
BEGIN:VEVENT
DTSTART;TZID=UTC:20200813T100000
DTEND;TZID=UTC:20200813T160000
DTSTAMP:20260419T203850
CREATED:20200328T211144Z
LAST-MODIFIED:20200901T125710Z
UID:410-1597312800-1597334400@dexpi.org
SUMMARY:DEXPI Summer Meeting 2020
DESCRIPTION:
URL:https://dexpi.org/event/dexpi-summer-meeting-2020/
END:VEVENT
BEGIN:VEVENT
DTSTART;TZID=UTC:20200702T100000
DTEND;TZID=UTC:20200702T160000
DTSTAMP:20260419T203850
CREATED:20200328T211118Z
LAST-MODIFIED:20200328T211319Z
UID:407-1593684000-1593705600@dexpi.org
SUMMARY:Face-to-Face meeting
DESCRIPTION:
URL:https://dexpi.org/event/face-to-face-dexpi-meeting/
LOCATION:DECHEMA\, Theodor-Heuss-Allee 25\, Frankfurt am Main\, 60486
END:VEVENT
BEGIN:VEVENT
DTSTART;TZID=UTC:20200528T100000
DTEND;TZID=UTC:20200528T160000
DTSTAMP:20260419T203850
CREATED:20200328T210946Z
LAST-MODIFIED:20200328T211332Z
UID:405-1590660000-1590681600@dexpi.org
SUMMARY:Web-Meeting
DESCRIPTION:
URL:https://dexpi.org/event/dexpi-web-meeting/
END:VEVENT
BEGIN:VEVENT
DTSTART;VALUE=DATE:20200428
DTEND;VALUE=DATE:20200501
DTSTAMP:20260419T203850
CREATED:20200901T130358Z
LAST-MODIFIED:20200901T130358Z
UID:803-1588032000-1588291199@dexpi.org
SUMMARY:1st DEXPI Hackathon 2020
DESCRIPTION:First completely virtual Hackathon due to Corona/COVID-19.
URL:https://dexpi.org/event/1st-dexpi-hackathon-2020/
END:VEVENT
END:VCALENDAR