BEGIN:VCALENDAR
VERSION:2.0
PRODID:-//DEXPI - ECPv6.15.20//NONSGML v1.0//EN
CALSCALE:GREGORIAN
METHOD:PUBLISH
X-ORIGINAL-URL:https://dexpi.org
X-WR-CALDESC:Events for DEXPI
REFRESH-INTERVAL;VALUE=DURATION:PT1H
X-Robots-Tag:noindex
X-PUBLISHED-TTL:PT1H
BEGIN:VTIMEZONE
TZID:UTC
BEGIN:STANDARD
TZOFFSETFROM:+0000
TZOFFSETTO:+0000
TZNAME:UTC
DTSTART:20190101T000000
END:STANDARD
END:VTIMEZONE
BEGIN:VEVENT
DTSTART;TZID=UTC:20201027T100000
DTEND;TZID=UTC:20201027T160000
DTSTAMP:20260424T174254
CREATED:20200328T211256Z
LAST-MODIFIED:20200901T125637Z
UID:412-1603792800-1603814400@dexpi.org
SUMMARY:DEXPI Autumn Meeting 2020
DESCRIPTION:
URL:https://dexpi.org/event/dexpi-autumn-meeting-2020/
END:VEVENT
END:VCALENDAR