BEGIN:VCALENDAR
VERSION:2.0
PRODID:-//DEXPI - ECPv6.15.20//NONSGML v1.0//EN
CALSCALE:GREGORIAN
METHOD:PUBLISH
X-ORIGINAL-URL:https://dexpi.org
X-WR-CALDESC:Events for DEXPI
REFRESH-INTERVAL;VALUE=DURATION:PT1H
X-Robots-Tag:noindex
X-PUBLISHED-TTL:PT1H
BEGIN:VTIMEZONE
TZID:Europe/Berlin
BEGIN:DAYLIGHT
TZOFFSETFROM:+0100
TZOFFSETTO:+0200
TZNAME:CEST
DTSTART:20230326T010000
END:DAYLIGHT
BEGIN:STANDARD
TZOFFSETFROM:+0200
TZOFFSETTO:+0100
TZNAME:CET
DTSTART:20231029T010000
END:STANDARD
BEGIN:DAYLIGHT
TZOFFSETFROM:+0100
TZOFFSETTO:+0200
TZNAME:CEST
DTSTART:20240331T010000
END:DAYLIGHT
BEGIN:STANDARD
TZOFFSETFROM:+0200
TZOFFSETTO:+0100
TZNAME:CET
DTSTART:20241027T010000
END:STANDARD
BEGIN:DAYLIGHT
TZOFFSETFROM:+0100
TZOFFSETTO:+0200
TZNAME:CEST
DTSTART:20250330T010000
END:DAYLIGHT
BEGIN:STANDARD
TZOFFSETFROM:+0200
TZOFFSETTO:+0100
TZNAME:CET
DTSTART:20251026T010000
END:STANDARD
END:VTIMEZONE
BEGIN:VEVENT
DTSTART;TZID=Europe/Berlin:20240808T150000
DTEND;TZID=Europe/Berlin:20240808T160000
DTSTAMP:20260421T224620
CREATED:20240802T100552Z
LAST-MODIFIED:20240802T100617Z
UID:1813-1723129200-1723132800@dexpi.org
SUMMARY:DEXPI PlantSIG call 2024-08
DESCRIPTION:The DEXPI Plant Specification Interest Group (PlantSIG\, former Content Team) meets to discuss topics affecting the DEXPI Plant Specification. This is a calendar entry for an internal DEXPI content team / Plant Specification Interest Group meeting. The team members will receive the dial-in information separately.
URL:https://dexpi.org/event/dexpi-plantsig-call-2024-08/
END:VEVENT
BEGIN:VEVENT
DTSTART;TZID=Europe/Berlin:20240812T130000
DTEND;TZID=Europe/Berlin:20240812T160000
DTSTAMP:20260421T224620
CREATED:20240626T135359Z
LAST-MODIFIED:20240812T101531Z
UID:1771-1723467600-1723478400@dexpi.org
SUMMARY:internal DEXPI members update Call Q3/2024
DESCRIPTION:We are excited to announce our upcoming DEXPI Update Call\, exclusively for DEXPI members. This is a fantastic opportunity to stay informed about the latest developments\, share insights\, and collaborate on our ongoing initiatives. Your participation is crucial to our collective success and the advancement of data exchange standards in the process industry. \nStay tuned for more details and make sure to mark your calendars. We look forward to your active participation and valuable contributions. \nBest regards\, The DEXPI Team
URL:https://dexpi.org/event/dexpi-update-call-q3-2024/
LOCATION:Virtual internal Meeting
END:VEVENT
BEGIN:VEVENT
DTSTART;TZID=Europe/Berlin:20240821T130000
DTEND;TZID=Europe/Berlin:20240821T160000
DTSTAMP:20260421T224620
CREATED:20240801T141433Z
LAST-MODIFIED:20240816T092316Z
UID:1809-1724245200-1724256000@dexpi.org
SUMMARY:DEXPI ProcessSIG community kickoff
DESCRIPTION:Virtual meeting \nWe cordially invite to be a part of the kick-off workshop in August. Your insights and expertise as a member of the process technology community are crucial as we embark on this journey to complement and enhance the work initiated by the DEXPI Plant SIG (former DEXPI content team) and the DEXPI+ project. \nKick-Off Workshop Details: \n– Purpose: To discuss the mission\, working mode\, frequency of meetings\, and establish the core group of participants. \n– Duration: 2-3 engaging hours of collaborative innovation. \n– Format: An interactive online session conducive to open dialogue and creative exchange. \nWhat to expect: \n– Get to know like-minded professionals passionate about driving data exchange in the process industry. \n– Contribute to defining the roadmap for the group’s mission and the development of PFD&BFD specifications. \n– Decide collaboratively on the working modalities that will accommodate all members. \n– Opportunity to directly influence the future of the DEXPI standards and your own professional field. \nTogether\, we have the chance to shape a pivotal tool that will redefine efficiency\, clarity\, and interoperability across our industry’s workflow. \nYour commitment can be as flexible or as involved as you’d like. Whether you’re looking to be a key driver or a supportive voice in the room\, every opinion counts and your presence would be highly valued. \nItems on the Agenda \n\nWelcome and Introduction\nOverview of DEXPI Plant SIG and DEXPI+ Project\nIntroduction round\nMission and Objectives of the DEXPI Process SIG\nWorking Modalities\nEstablishing the Core Group\nNext Steps and Action Items\n\nInterested in joining?\nContact backoffice@dexpi.org or fill out the contact form in time: https://dexpi.org/contact/
URL:https://dexpi.org/event/dexpi-processsig-community-kickoff/
END:VEVENT
END:VCALENDAR